BEGIN:VCALENDAR
VERSION:2.0
PRODID:-//wp-events-plugin.com//7.2.3.1//EN
TZID:America/New_York
X-WR-TIMEZONE:America/New_York
BEGIN:VEVENT
UID:357@ohavshalom.org
DTSTART;TZID=America/New_York:20231029T100000
DTEND;TZID=America/New_York:20231029T130000
DTSTAMP:20231025T184414Z
URL:https://www.ohavshalom.org/events/jewish-connections-to-star-trek-with
 -adam-nimoy/
SUMMARY:Jewish Connections to Star Trek featuring Adam Nimoy REGISTRATION C
 LOSED
DESCRIPTION:Thank you for your interest in this event. Registration is now 
 closed. If you have questions please call the office.&nbsp\;&nbsp\;\n\n\nJ
 ewish Connections to Star Trek Media Information&nbsp\;
ATTACH;FMTTYPE=image/jpeg:https://www.ohavshalom.org/wp-content/uploads/20
 23/08/Star-Trek-New.jpg
CATEGORIES:Featured Events
END:VEVENT
BEGIN:VTIMEZONE
TZID:America/New_York
X-LIC-LOCATION:America/New_York
BEGIN:DAYLIGHT
DTSTART:20230312T030000
TZOFFSETFROM:-0500
TZOFFSETTO:-0400
TZNAME:EDT
END:DAYLIGHT
END:VTIMEZONE
END:VCALENDAR